BEGIN:VCALENDAR
VERSION:2.0
BEGIN:VEVENT
UID:69e761d259b57
DTSTAMP:20260421T113858Z
DTSTART;VALUE=DATE:20260908
DTEND;VALUE=DATE:20260913
SUMMARY:Automechanika Frankfurt
END:VEVENT
END:VCALENDAR
